BEGIN:VCALENDAR
VERSION:2.0
PRODID:-//wp-events-plugin.com//7.2.3.1//EN
BEGIN:VEVENT
UID:2@lavozdelculturismolatino.com
DTSTART;VALUE=DATE:20260206
DTEND;VALUE=DATE:20260209
DTSTAMP:20260127T195234Z
URL:https://lavozdelculturismolatino.com/events/spanish-open-show-pro/
SUMMARY:SPANISH OPEN SHOW PRO
DESCRIPTION:
LOCATION:Casino de estoril\, estoril\, Estoril\, Portugal
X-APPLE-STRUCTURED-LOCATION;VALUE=URI;X-ADDRESS=estoril\, Estoril\, Portuga
 l;X-APPLE-RADIUS=100;X-TITLE=Casino de estoril:geo:0,0
END:VEVENT
END:VCALENDAR