BEGIN:VCALENDAR
VERSION:2.0
PRODID:-//wp-events-plugin.com//7.2.3.1//EN
BEGIN:VEVENT
UID:1@lavozdelculturismolatino.com
DTSTART:20260130T000000Z
DTEND:20260202T235900Z
DTSTAMP:20260127T175745Z
URL:https://lavozdelculturismolatino.com/events/portugal-show-pro/
SUMMARY:PORTUGAL SHOW PRO
DESCRIPTION:
LOCATION:Casino de estoril\, estoril\, Estoril\, Portugal
X-APPLE-STRUCTURED-LOCATION;VALUE=URI;X-ADDRESS=estoril\, Estoril\, Portuga
 l;X-APPLE-RADIUS=100;X-TITLE=Casino de estoril:geo:0,0
END:VEVENT
END:VCALENDAR