BEGIN:VCALENDAR
VERSION:2.0
PRODID:-//wp-events-plugin.com//7.2.3.1//EN
BEGIN:VEVENT
UID:3@lavozdelculturismolatino.com
DTSTART;VALUE=DATE:20260313
DTEND;VALUE=DATE:20260316
DTSTAMP:20260127T195429Z
URL:https://lavozdelculturismolatino.com/events/bogota-super-show/
SUMMARY:BOGOTA SUPER SHOW
DESCRIPTION:
LOCATION:BOGOTA COLOMBIA\, \, Colombia
X-APPLE-STRUCTURED-LOCATION;VALUE=URI;X-ADDRESS=\, Colombia;X-APPLE-RADIUS=
 100;X-TITLE=BOGOTA COLOMBIA:geo:0,0
END:VEVENT
END:VCALENDAR